Workbook

Sheet 入力シート
B1: 「日本村」の予算を作ろう！
N3: 班
B5: 区 分 | C5: 社会保障 | D5: 内 訳 | H5: 地方への 交付金 | I5: 防衛 | J5: 公共事業 | K5: 教 育 | L5: そ の 他 | M5: 借金返済
D6: 年 金 | E6: 医 療 | F6: 子ども・子育て | G6: 介護など
B7: 増 減 | C7: =IF(計算シート!J3>=1.5,"大幅に増やす",IF(AND(計算シート!J3<1.5,計算シート!J3>1),"少し増やす",IF(計算シート!J3=1,"変更しない",IF(AND(計算シート!J3<1,計算シート!J3>0.5),"少し減らす",IF(計算シート!J3<=0.5,"大幅に減らす"))))) -> 変更しない | D7: 変更しない | E7: 変更しない | F7: 変更しない | G7: 変更しない | H7: 変更しない | I7: 変更しない | J7: 変更しない | K7: 変更しない | L7: 変更しない | M7: 変更しない
B8: 変 動 額 | C8: =計算シート!I3-計算シート!H3 -> 0 | D8: =計算シート!I4-計算シート!H4 -> 0 | E8: =計算シート!I5-計算シート!H5 -> 0 | F8: =計算シート!I6-計算シート!H6 -> 0 | G8: =計算シート!I7-計算シート!H7 -> 0 | H8: =計算シート!I8-計算シート!H8 -> 0 | I8: =計算シート!I9-計算シート!H9 -> 0 | J8: =計算シート!I10-計算シート!H10 -> 0 | K8: =計算シート!I11-計算シート!H11 -> 0 | L8: ― | M8: ―
B10: 区 分 | C10: 所 得 税 | D10: 消 費 税 | E10: 法 人 税 | F10: その他の税 | G10: 税以外 の収入 | J10: 歳出 | L10: 歳入 | N10: 借金（国債）の増加額 | T10: 歳入 | U10: 歳出
B11: 増 減 | C11: 変更しない | D11: 変更しない | E11: 変更しない | F11: 変更しない | G11: 変更しない | I11: 8年度 | J11: 100 | L11: 100 | S11: 8年度 | T11: 100 | U11: 100
B12: 変 動 額 | C12: =計算シート!I16-計算シート!H16 -> 0 | D12: =計算シート!I17-計算シート!H17 -> 0 | E12: =計算シート!I18-計算シート!H18 -> 0 | F12: ― | G12: ― | I12: 予算案 | J12: =計算シート!V3 -> 100 | L12: =計算シート!X3 -> 100 | N12: =計算シート!$R$14-計算シート!$R$22 -> -2 | S12: 予算案 | T12: =計算シート!I14 -> 100 | U12: =計算シート!I22 -> 100
S13: 増減 | T13: =T12-T11 -> 0 | U13: =U12-U11 -> 0

Sheet 計算シート
D2: 単純割合 | E2: ROUND | F2: 調整 （手動） | G2: 採用 | H2: 8年度 | I2: 予算案 | J2: 修正値 | L2: 社会保障内訳グラフ用 | T2: 総額 | V2: 総額 | W2: 総額 | X2: 総額 | AC2: 大幅増 | AD2: 少し増 | AE2: 少し減 | AF2: 大幅減
C3: 社会保障 | D3: 31.9 | E3: =SUM(E4:E7) -> 31 | G3: =SUM(G4:G7) -> 32 | H3: =SUM(H4:H7) -> 32 | I3: =SUM(I4:I7) -> 32 | J3: =I3/H3 -> 1 | M3: 8年度 | Q3: 予算案 | S3: 8年度 | T3: =H14 -> 100 | U3: 修正後 | V3: =I14 -> 100 | W3: =H22 -> 100 | X3: =I22 -> 100
C4: 年金 | D4: 11.4 | E4: =ROUND(D4,0) -> 11 | F4: 1 | G4: =SUM(E4:F4) -> 12 | H4: =G4 -> 12 | I4: =ROUND(H4*J4,0) -> 12 | J4: =VLOOKUP(入力シート!D7,$Y$4:$Z$12,2,) -> 1 | L4: 年金 | M4: =H4 -> 12 | Q4: =I4 -> 12 | Y4: 大幅に増やす | Z4: 1.5 | AA4: 班 | AC4: =ROUND(H4*1.5,0)-H4 -> 6 | AD4: =ROUND(H4*1.3,0)-H4 -> 4 | AE4: =ROUND(H4*0.7,0)-H4 -> -4 | AF4: =ROUND(H4*0.5,0)-H4 -> -6
C5: 医療 | D5: 10.4 | E5: =ROUND(D5,0) -> 10 | F5: 0 | G5: =SUM(E5:F5) -> 10 | H5: =G5 -> 10 | I5: =ROUND(H5*J5,0) -> 10 | J5: =VLOOKUP(入力シート!E7,$Y$4:$Z$12,2,) -> 1 | L5: 医療 | M5: =H5 -> 10 | Q5: =I5 -> 10 | Y5: 少し増やす | Z5: 1.3 | AA5: １班 | AC5: =ROUND(H5*1.5,0)-H5 -> 5 | AD5: =ROUND(H5*1.3,0)-H5 -> 3 | AE5: =ROUND(H5*0.7,0)-H5 -> -3 | AF5: =ROUND(H5*0.5,0)-H5 -> -5
C6: 子ども・子育て | D6: 2.9 | E6: =ROUND(D6,0) -> 3 | F6: 0 | G6: =SUM(E6:F6) -> 3 | H6: =G6 -> 3 | I6: =IF(H6*J6=1.5,ROUNDDOWN(H6*J6,0),ROUND(H6*J6,0)) -> 3 | J6: =VLOOKUP(入力シート!F7,$Y$4:$Z$12,2,) -> 1 | L6: 子ども・子育て | M6: =H6 -> 3 | Q6: =I6 -> 3 | Y6: 変更しない | Z6: 1 | AA6: ２班 | AC6: =ROUND(H6*1.5,0)-H6 -> 2 | AD6: =ROUND(H6*1.3,0)-H6 -> 1 | AE6: =ROUND(H6*0.7,0)-H6 -> -1 | AF6: =ROUND(H6*0.5,0)-H6 -> -1
C7: 介護など | D7: 7.3 | E7: =ROUND(D7,0) -> 7 | F7: 0 | G7: =SUM(E7:F7) -> 7 | H7: =G7 -> 7 | I7: =IF(H7*J7=3.5,ROUNDDOWN(H7*J7,0),ROUND(H7*J7,0)) -> 7 | J7: =VLOOKUP(入力シート!G7,$Y$4:$Z$12,2,) -> 1 | L7: 介護など | M7: =H7 -> 7 | Q7: =I7 -> 7 | S7: 社会保障内訳用（参考：令和8年度社会保障のポイントP2、令和8年度予算フレーム） | Y7: 少し減らす | Z7: 0.7 | AA7: ３班 | AC7: =ROUND(H7*1.5,0)-H7 -> 4 | AD7: =ROUND(H7*1.3,0)-H7 -> 2 | AE7: =ROUND(H7*0.7,0)-H7 -> -2 | AF7: =ROUND(H7*0.5,0)-H7 -> -3
C8: 地方への交付金 | D8: 17.1 | E8: =ROUND(D8,0) -> 17 | F8: 0 | G8: =SUM(E8:F8) -> 17 | H8: =G8 -> 17 | I8: =IF(H8*J8=8.5,ROUNDDOWN(H8*J8,0),ROUND(H8*J8,0)) -> 17 | J8: =VLOOKUP(入力シート!H7,$Y$4:$Z$12,2,) -> 1 | T8: ８年度(単位：億） | U8: 割合 | W8: 1,223,092億円を100とした場合 | Y8: 大幅に減らす | Z8: 0.5 | AA8: ４班 | AC8: =ROUND(H8*1.5,0)-H8 -> 9 | AD8: =ROUND(H8*1.3,0)-H8 -> 5 | AE8: =ROUND(H8*0.7,0)-H8 -> -5 | AF8: =ROUND(H8*0.5,0)-H8 -> -8
C9: 防衛 | D9: 7.3 | E9: =ROUND(D9,0) -> 7 | F9: 0 | G9: =SUM(E9:F9) -> 7 | H9: =G9 -> 7 | I9: =IF(H9*J9=3.5,ROUNDDOWN(H9*J9,0),ROUND(H9*J9,0)) -> 7 | J9: =VLOOKUP(入力シート!I7,$Y$4:$Z$12,2,) -> 1 | S9: 一般会計 | T9: 390559 | V9: 項目 | W9: 割合 | Y9: １００％増やす | Z9: 2 | AA9: ５班 | AC9: =ROUND(H9*1.5,0)-H9 -> 4 | AD9: =ROUND(H9*1.3,0)-H9 -> 2 | AE9: =ROUND(H9*0.7,0)-H9 -> -2 | AF9: =ROUND(H9*0.5,0)-H9 -> -3
C10: 公共事業 | D10: 5 | E10: =ROUND(D10,0) -> 5 | F10: 0 | G10: =SUM(E10:F10) -> 5 | H10: =G10 -> 5 | I10: =IF(OR(H10*J10=2.5, H10*J10=3.5), ROUNDDOWN(H10*J10, 0), ROUND(H10*J10, 0)) -> 5 | J10: =VLOOKUP(入力シート!J7,$Y$4:$Z$12,2,) -> 1 | S10: 年金 | T10: 139012 | U10: =T10/$T$9 -> 0.35593086 | V10: 年金 | W10: =T10/1223092*100 -> 11.365621 | Y10: 50％増やす | Z10: 1.5 | AA10: ６班 | AC10: =ROUND(H10*1.5,0)-H10 -> 3 | AD10: =ROUND(H10*1.3,0)-H10 -> 2 | AE10: =ROUND(H10*0.7,0)-H10 -> -1 | AF10: =ROUND(H10*0.5,0)-H10 -> -2
C11: 教育 | D11: 3.7 | E11: =ROUND(D11,0) -> 4 | F11: 0 | G11: =SUM(E11:F11) -> 4 | H11: =G11 -> 4 | I11: =ROUND(H11*J11,0) -> 4 | J11: =VLOOKUP(入力シート!K7,$Y$4:$Z$12,2,) -> 1 | K11: 参考：令和8年度文教科学技術のポイントP3 | S11: 医療 | T11: 126895 | U11: =T11/$T$9 -> 0.3249061 | V11: 医療 | W11: =T11/1223092*100 -> 10.374935 | Y11: ５０％減らす | Z11: 0.5 | AA11: ７班 | AC11: =ROUND(H11*1.5,0)-H11 -> 2 | AD11: =ROUND(H11*1.3,0)-H11 -> 1 | AE11: =ROUND(H11*0.7,0)-H11 -> -1 | AF11: =ROUND(H11*0.5,0)-H11 -> -2
C12: その他 | D12: 9.3 | E12: =ROUND(D12,0) -> 9 | F12: 0 | G12: =SUM(E12:F12) -> 9 | H12: =G12 -> 9 | I12: =H12 -> 9 | K12: ※その他は「科学技術振興費」が含まれる。 | S12: 子ども・子育て | T12: 35335 | U12: =T12/$T$9 -> 0.090472886 | V12: 子ども・子育て | W12: =T12/1223092*100 -> 2.8889895 | Y12: １００％減らす | Z12: 0 | AA12: ８班
C13: 借金返済 | D13: 25.6 | E13: =ROUND(D13,0) -> 26 | F13: 0 | G13: =SUM(E13:F13) -> 26 | H13: =G13 -> 26 | I13: =H13 -> 26 | S13: 介護など | T13: 89317 | U13: =T13/$T$9 -> 0.22869016 | V13: 介護など | W13: =T13/1223092*100 -> 7.3025578 | AA13: ９班
D14: =SUM(D4:D13) -> 100 | E14: =SUM(E4:E13) -> 99 | H14: =SUM(H3,H8:H13) -> 100 | I14: =SUM(I3,I8:I13) -> 100 | R14: =SUM(I4:I12) -> 74 | T14: =SUM(T10:T13) -> 390559 | V14: 社会保障 合計 | W14: =SUM(W10:W13) -> 31.932103 | AA14: １０班
D15: 単純割合 | E15: ROUND | F15: 調整 （手動） | G15: 採用 | H15: =H2 -> 8年度 | I15: 予算案 | J15: 修正値 | AA15: １１班 | AC15: 大幅増 | AD15: 少し増 | AE15: 少し減 | AF15: 大幅減
C16: 所得税 | D16: 20.7 | E16: =ROUND(D16,0) -> 21 | F16: 0 | G16: =SUM(E16:F16) -> 21 | H16: =G16 -> 21 | I16: =IF(H16*J16=10.5,ROUNDDOWN(H16*J16,0),ROUND(H16*J16,0)) -> 21 | J16: =VLOOKUP(入力シート!C11,$Y$4:$Z$12,2,) -> 1 | AA16: １２班 | AC16: =ROUND(H16*1.5,0)-H16 -> 11 | AD16: =ROUND(H16*1.3,0)-H16 -> 6 | AE16: =ROUND(H16*0.7,0)-H16 -> -6 | AF16: =ROUND(H16*0.5,0)-H16 -> -10
C17: 消費税 | D17: 21.8 | E17: =ROUND(D17,0) -> 22 | F17: 0 | G17: =SUM(E17:F17) -> 22 | H17: =G17 -> 22 | I17: =ROUND(H17*J17,0) -> 22 | J17: =VLOOKUP(入力シート!D11,$Y$4:$Z$12,2,) -> 1 | AA17: １３班 | AC17: =ROUND(H17*1.5,0)-H17 -> 11 | AD17: =ROUND(H17*1.3,0)-H17 -> 7 | AE17: =ROUND(H17*0.7,0)-H17 -> -7 | AF17: =ROUND(H17*0.5,0)-H17 -> -11
C18: 法人税 | D18: 16.9 | E18: =ROUND(D18,0) -> 17 | F18: 0 | G18: =SUM(E18:F18) -> 17 | H18: =G18 -> 17 | I18: =IF(H18*J18=8.5,ROUNDDOWN(H18*J18,0),ROUND(H18*J18,0)) -> 17 | J18: =VLOOKUP(入力シート!E11,$Y$4:$Z$12,2,) -> 1 | AA18: １４班 | AC18: =ROUND(H18*1.5,0)-H18 -> 9 | AD18: =ROUND(H18*1.3,0)-H18 -> 5 | AE18: =ROUND(H18*0.7,0)-H18 -> -5 | AF18: =ROUND(H18*0.5,0)-H18 -> -8
C19: その他の税 | D19: 9 | E19: =ROUND(D19,0) -> 9 | F19: 0 | G19: =SUM(E19:F19) -> 9 | H19: =G19 -> 9 | I19: =H19 -> 9 | AA19: １５班
C20: 税以外 | D20: 7.4 | E20: =ROUND(D20,0) -> 7 | F20: 0 | G20: =SUM(E20:F20) -> 7 | H20: =G20 -> 7 | I20: =H20 -> 7 | AA20: １６班
C21: 新たな借金 （国債） | D21: 24.2 | E21: =ROUND(D21,0) -> 24 | F21: 0 | G21: =SUM(E21:F21) -> 24 | H21: =G21 -> 24 | I21: =I14-I16-I17-I18-I19-I20 -> 24 | AA21: １７班
D22: =SUM(D16:D21) -> 100 | E22: =SUM(E16:E21) -> 100 | F22: =SUM(F16:F21) -> 0 | H22: =SUM(H16:H21) -> 100 | I22: =SUM(I16:I21) -> 100 | R22: =SUM(I16:I20) -> 76 | AA22: １８班
AA23: １９班
C24: ※I列で黄塗りの項目について、H列*J列を計算した際の小数点第一位の値が.5となる場合、「増やす」と「減らす」で増減額が変わってしまうことから、数式を変更して増減額を一致させている。 | AA24: ２０班
AA25: ２１班
AA26: ２２班
AA27: ２３班
AA28: ２４班
AA29: ２５班
AA30: ２６班
AA31: ２７班
AA32: ２８班
AA33: ２９班
AA34: ３０班
AA35: ３１班
AA36: ３２班
... AA54: ５０班
