Workbook

Sheet 入力シート
A1: 「日本村」の予算を作ろう！
B6: 班
B8: 歳 出 | E8: 歳 入
B9: 区分 | C9: 増額・減額・ 変更しない | D9: 増減額 （自動） | E9: 区分 | F9: 増額・減額・ 変更しない | G9: 増減額 （自動）
B10: 社会保障 | C10: 変更しない | D10: =計算シート!I4-計算シート!H4 -> 0 | E10: 所得税 | F10: 変更しない | G10: =計算シート!I14-計算シート!H14 -> 0
B11: 地方への 交付金 | C11: 変更しない | D11: =計算シート!I5-計算シート!H5 -> 0 | E11: 消費税 | F11: 変更しない | G11: =計算シート!I15-計算シート!H15 -> 0
B12: 防衛 | C12: 変更しない | D12: =計算シート!I6-計算シート!H6 -> 0 | E12: 法人税 | F12: 変更しない | G12: =計算シート!I16-計算シート!H16 -> 0
B13: 公共事業 | C13: 変更しない | D13: =計算シート!I7-計算シート!H7 -> 0 | E13: その他の税 | F13: 変更しない | G13: =計算シート!I17-計算シート!H17 -> 0
B14: 教育 | C14: 変更しない | D14: =計算シート!I8-計算シート!H8 -> 0 | E14: 税以外 の収入 | F14: 変更しない | G14: =計算シート!I18-計算シート!H18 -> 0
B15: その他 | C15: 変更しない | D15: =計算シート!I9-計算シート!H9 -> 0
B16: 借金返済 | C16: 変更しない | D16: =計算シート!I10-計算シート!H10 -> 0 | K16: 歳出 | M16: 歳入 | O16: 借金（国債）の増加額
I17: 8年度 | K17: 100 | M17: 100
I18: 予算案 | K18: =計算シート!P4 -> 100 | M18: =計算シート!R4 -> 100 | O18: =計算シート!$M$10-計算シート!$M$19 -> -2
B37: 8891

Sheet 計算シート
C1: ○予算ベース：令和8年度予算
C3: 歳出 | D3: 単純割合 | E3: ROUND | F3: 調整 （手動） | G3: 採用 | H3: 8年度 | I3: 予算案 | J3: 修正値 | N3: 総額 | P3: 総額 | Q3: 総額 | R3: 総額 | W3: 大幅増 | X3: 少し増 | Y3: 少し減 | Z3: 大幅減
C4: 社会保障 | D4: 31.9 | E4: =ROUND(D4,0) -> 32 | F4: 0 | G4: =SUM(E4:F4) -> 32 | H4: =G4 -> 32 | I4: =IF(J4*H4=16.5,ROUNDDOWN(J4*H4,0),ROUND(J4*H4,0)) -> 32 | J4: =VLOOKUP(入力シート!C10,$S$5:$T$13,2,) -> 1 | M4: ８年度 | N4: =H11 -> 100 | O4: 修正後 | P4: =I11 -> 100 | Q4: =H20 -> 100 | R4: =I20 -> 100 | W4: =ROUND(H4*1.5,0)-H4 -> 16 | X4: =ROUND(H4*1.3,0)-H4 -> 10 | Y4: =ROUND(H4*0.7,0)-H4 -> -10 | Z4: =ROUND(H4*0.5,0)-H4 -> -16
C5: 地方への交付金 | D5: 17.1 | E5: =ROUND(D5,0) -> 17 | F5: 0 | G5: =SUM(E5:F5) -> 17 | H5: =G5 -> 17 | I5: =IF(OR(J5*H5=8.5),ROUNDDOWN(J5*H5,0),ROUND(J5*H5,0)) -> 17 | J5: =VLOOKUP(入力シート!C11,$S$5:$T$13,2,) -> 1 | S5: 大幅に増やす | T5: 1.5 | U5: 班 | W5: =ROUND(H5*1.5,0)-H5 -> 9 | X5: =ROUND(H5*1.3,0)-H5 -> 5 | Y5: =ROUND(H5*0.7,0)-H5 -> -5 | Z5: =ROUND(H5*0.5,0)-H5 -> -8
C6: 防衛 | D6: 7.3 | E6: =ROUND(D6,0) -> 7 | F6: 0 | G6: =SUM(E6:F6) -> 7 | H6: =G6 -> 7 | I6: =IF(OR(J6*H6=3.5),ROUNDDOWN(J6*H6,0),ROUND(J6*H6,0)) -> 7 | J6: =VLOOKUP(入力シート!C12,$S$5:$T$13,2,) -> 1 | S6: 少し増やす | T6: 1.3 | U6: １班 | W6: =ROUND(H6*1.5,0)-H6 -> 4 | X6: =ROUND(H6*1.3,0)-H6 -> 2 | Y6: =ROUND(H6*0.7,0)-H6 -> -2 | Z6: =ROUND(H6*0.5,0)-H6 -> -3
C7: 公共事業 | D7: 5 | E7: =ROUND(D7,0) -> 5 | F7: 0 | G7: =SUM(E7:F7) -> 5 | H7: =G7 -> 5 | I7: =IF(OR(J7*H7=3.5,J7*H7=2.5),ROUNDDOWN(J7*H7,0),ROUND(J7*H7,0)) -> 5 | J7: =VLOOKUP(入力シート!C13,$S$5:$T$13,2,) -> 1 | S7: 変更しない | T7: 1 | U7: ２班 | W7: =ROUND(H7*1.5,0)-H7 -> 3 | X7: =ROUND(H7*1.3,0)-H7 -> 2 | Y7: =ROUND(H7*0.7,0)-H7 -> -1 | Z7: =ROUND(H7*0.5,0)-H7 -> -2
C8: 教育 | D8: 3.7 | E8: =ROUND(D8,0) -> 4 | F8: 0 | G8: =SUM(E8:F8) -> 4 | H8: =G8 -> 4 | I8: =ROUND(J8*H8,0) -> 4 | J8: =VLOOKUP(入力シート!C14,$S$5:$T$13,2,) -> 1 | S8: 少し減らす | T8: 0.7 | U8: ３班 | W8: =ROUND(H8*1.5,0)-H8 -> 2 | X8: =ROUND(H8*1.3,0)-H8 -> 1 | Y8: =ROUND(H8*0.7,0)-H8 -> -1 | Z8: =ROUND(H8*0.5,0)-H8 -> -2
C9: その他 | D9: 9.3 | E9: =ROUND(D9,0) -> 9 | F9: 0 | G9: =SUM(E9:F9) -> 9 | H9: =G9 -> 9 | I9: =H9 -> 9 | S9: 大幅に減らす | T9: 0.5 | U9: ４班
C10: 借金返済 | D10: 25.6 | E10: =ROUND(D10,0) -> 26 | F10: 0 | G10: =SUM(E10:F10) -> 26 | H10: =G10 -> 26 | I10: =H10 -> 26 | M10: =SUM(I4:I9) -> 74 | S10: １００％増やす | T10: 2 | U10: ５班
D11: =SUM(D4:D10) -> 99.9 | E11: =SUM(E4:E10) -> 100 | F11: =SUM(F4:F10) -> 0 | G11: =SUM(G4:G10) -> 100 | H11: =SUM(H4:H10) -> 100 | I11: =SUM(I4:I10) -> 100 | S11: 50％増やす | T11: 1.5 | U11: ６班
H12: 【8年度】 | S12: ５０％減らす | T12: 0.5 | U12: ７班
C13: 歳入 | D13: 単純割合 | E13: ROUND | F13: 調整 （手動） | G13: 採用 | H13: =H3 -> 8年度 | I13: 予算案 | J13: 修正値 | S13: １００％減らす | T13: 0 | U13: ８班 | W13: 大幅増 | X13: 少し増 | Y13: 少し減 | Z13: 大幅減
C14: 所得税 | D14: 20.7 | E14: =ROUND(D14,0) -> 21 | F14: 0 | G14: =SUM(E14:F14) -> 21 | H14: =G14 -> 21 | I14: =IF(J14*H14=10.5,ROUNDDOWN(J14*H14,0),ROUND(J14*H14,0)) -> 21 | J14: =VLOOKUP(入力シート!F10,$S$5:$T$13,2,) -> 1 | U14: ９班 | W14: =ROUND(H14*1.5,0)-H14 -> 11 | X14: =ROUND(H14*1.3,0)-H14 -> 6 | Y14: =ROUND(H14*0.7,10)-H14 -> -6.3 | Z14: =ROUND(H14*0.5,0)-H14 -> -10
C15: 消費税 | D15: 21.8 | E15: =ROUND(D15,0) -> 22 | F15: 0 | G15: =SUM(E15:F15) -> 22 | H15: =G15 -> 22 | I15: =ROUND(H15*J15,0) -> 22 | J15: =VLOOKUP(入力シート!F11,$S$5:$T$13,2,) -> 1 | U15: １０班 | W15: =ROUND(H15*1.5,0)-H15 -> 11 | X15: =ROUND(H15*1.3,0)-H15 -> 7 | Y15: =ROUND(H15*0.7,10)-H15 -> -6.6 | Z15: =ROUND(H15*0.5,0)-H15 -> -11
C16: 法人税 | D16: 16.9 | E16: =ROUND(D16,0) -> 17 | F16: 0 | G16: =SUM(E16:F16) -> 17 | H16: =G16 -> 17 | I16: =IF(H16*J16=8.5,ROUNDDOWN(H16*J16,0),ROUND(H16*J16,0)) -> 17 | J16: =VLOOKUP(入力シート!F12,$S$5:$T$13,2,) -> 1 | U16: １１班 | W16: =ROUND(H16*1.5,0)-H16 -> 9 | X16: =ROUND(H16*1.3,0)-H16 -> 5 | Y16: =ROUND(H16*0.7,10)-H16 -> -5.1 | Z16: =ROUND(H16*0.5,0)-H16 -> -8
C17: その他の税 | D17: 9 | E17: =ROUND(D17,0) -> 9 | F17: 0 | G17: =SUM(E17:F17) -> 9 | H17: =G17 -> 9 | I17: =H17 -> 9 | U17: １２班
C18: 税以外 | D18: 7.4 | E18: =ROUND(D18,0) -> 7 | F18: 0 | G18: =SUM(E18:F18) -> 7 | H18: =G18 -> 7 | I18: 7 | U18: １３班
C19: 新たな借金 （国債） | D19: 24.2 | E19: =ROUND(D19,0) -> 24 | F19: 0 | G19: =SUM(E19:F19) -> 24 | H19: =G19 -> 24 | I19: =I11-I14-I15-I16-I17-I18 -> 24 | M19: =SUM(I14:I18) -> 76 | U19: １４班
D20: =SUM(D14:D19) -> 100 | E20: =SUM(E14:E19) -> 100 | F20: =SUM(F14:F19) -> 0 | G20: =SUM(G14:G19) -> 100 | H20: =SUM(H14:H19) -> 100 | I20: =SUM(I14:I19) -> 100 | U20: １５班
U21: １６班
C22: ※I列で黄塗りの項目について、H列*J列を計算した際の小数点第一位の値が.5となる場合、「増やす」と「減らす」で増減額が変わってしまうことから、数式を変更して増減額を一致させている。 | U22: １７班
U23: １８班
U24: １９班
U25: ２０班
U26: ２１班
U27: ２２班
U28: ２３班
U29: ２４班
U30: ２５班
U31: ２６班
U32: ２７班
U33: ２８班
U34: ２９班
... U55: ５０班
