Workbook

Sheet 入力シート
A1: 財務大臣になって予算を作ろう！
N3: 班
B5: 社会保障 | C5: 内 訳 | H5: 地方への 交付金 | I5: 防衛 | J5: 公共事業 | K5: 教 育 | L5: そ の 他 | M5: 過去の借金の返済費 | N5: 利払費
C6: 年 金 | D6: 医 療 | E6: 介 護 | F6: 子ども・子育て | G6: 生活保護ほか
B7: =ROUND((計算シート!G3-1)*100,0) -> 0 | C7: 現状維持 | D7: 現状維持 | E7: 現状維持 | F7: 現状維持 | G7: 現状維持 | H7: 現状維持 | I7: 現状維持 | J7: 現状維持 | K7: 現状維持 | L7: 現状維持 | M7: 現状維持 (18兆円) | N7: 現状維持 (13兆円)
I9: 予算総額 | J9: 新たな借金 （国債）の額
B10: 所 得 税 | C10: 消 費 税 | D10: 法 人 税 | E10: その他の税 | F10: 税以外 の収入 | H10: 8年度 | I10: 122 | J10: 29
B11: 現状維持 | C11: 現状維持 | D11: 現状維持 | E11: 現状維持 | F11: 現状維持 (9兆円) | H11: 予算案 | I11: =計算シート!F16 -> 122 | J11: =計算シート!F23 -> 29
H12: 増減 | I12: =I11-I10 -> 0 | J12: =J11-J10 -> 0

Sheet 計算シート
D1: （単位：兆）
D2: 8年度 （既定値） | E2: 8年度 | F2: 予算案 | G2: 修正値 | I2: 社会保障内訳グラフ用 | N2: 総額 | P2: 総額 | Q2: 総額 | R2: 総額
C3: 社会保障 | D3: =ROUND(SUM(D4:D8),1) -> 39.1 | E3: =ROUND(D3,0) -> 39 | F3: =ROUND(SUM(F4:F8),0) -> 39 | G3: =F3/E3 -> 1 | J3: 8年度 | K3: 予算案 | M3: 8年度 | N3: =D16 -> 122.4 | O3: 修正後 | P3: =F16 -> 122 | Q3: =D24 -> 122.3 | R3: =F24 -> 122 | W3: １００％増 | X3: ５０％増 | Y3: ３０％増 | Z3: １０％増 | AA3: ５％増 | AB3: ５％減 | AC3: １０％減 | AD3: ３０％減 | AE3: ５０％減 | AF3: １００％減
C4: 年金 | D4: 13.9 | E4: =ROUND(D4,0) -> 14 | F4: =ROUND(G4*E4,0) -> 14 | G4: =VLOOKUP(入力シート!C7,$S$4:$T$14,2,) -> 1 | I4: 年金 | J4: =E4 -> 14 | K4: =F4 -> 14 | S4: １００％増 | T4: 2 | U4: 班 | W4: =ROUND($E4*2,0)-$E4 -> 14 | X4: =ROUND($E4*1.5,0)-$E4 -> 7 | Y4: =ROUND($E4*1.3,0)-$E4 -> 4 | Z4: =ROUND($E4*1.1,0)-$E4 -> 1 | AA4: =ROUND($E4*1.05,0)-$E4 -> 1 | AB4: =ROUND($E4*1.05,0)-$E4 -> 1 | AC4: =ROUND($E4*0.9,0)-$E4 -> -1 | AD4: =ROUND($E4*0.7,0)-$E4 -> -4 | AE4: =ROUND($E4*0.5,0)-$E4 -> -7 | AF4: =ROUND($E4*0,0)-$E4 -> -14
C5: 医療 | D5: 12.7 | E5: =ROUND(D5,0) -> 13 | F5: =IF(E5*G5=6.5,ROUNDDOWN(E5*G5,0),ROUND(G5*E5,0)) -> 13 | G5: =VLOOKUP(入力シート!D7,$S$4:$T$14,2,) -> 1 | I5: 医療 | J5: =E5 -> 13 | K5: =F5 -> 13 | S5: ５０％増 | T5: 1.5 | U5: １班 | W5: =ROUND($E5*2,0)-$E5 -> 13 | X5: =ROUND($E5*1.5,0)-$E5 -> 7 | Y5: =ROUND($E5*1.3,0)-$E5 -> 4 | Z5: =ROUND($E5*1.1,0)-$E5 -> 1 | AA5: =ROUND($E5*1.05,0)-$E5 -> 1 | AB5: =ROUND($E5*1.05,0)-$E5 -> 1 | AC5: =ROUND($E5*0.9,0)-$E5 -> -1 | AD5: =ROUND($E5*0.7,0)-$E5 -> -4 | AE5: =ROUND($E5*0.5,0)-$E5 -> -6 | AF5: =ROUND($E5*0,0)-$E5 -> -13
C6: 介護 | D6: 3.8 | E6: =ROUND(D6,0) -> 4 | F6: =ROUND(G6*E6,0) -> 4 | G6: =VLOOKUP(入力シート!E7,$S$4:$T$14,2,) -> 1 | I6: 介護 | J6: =E6 -> 4 | K6: =F6 -> 4 | S6: ３０％増 | T6: 1.3 | U6: ２班 | W6: =ROUND($E6*2,0)-$E6 -> 4 | X6: =ROUND($E6*1.5,0)-$E6 -> 2 | Y6: =ROUND($E6*1.3,0)-$E6 -> 1 | Z6: =ROUND($E6*1.1,0)-$E6 -> 0 | AA6: =ROUND($E6*1.05,0)-$E6 -> 0 | AB6: =ROUND($E6*1.05,0)-$E6 -> 0 | AC6: =ROUND($E6*0.9,0)-$E6 -> 0 | AD6: =ROUND($E6*0.7,0)-$E6 -> -1 | AE6: =ROUND($E6*0.5,0)-$E6 -> -2 | AF6: =ROUND($E6*0,0)-$E6 -> -4
C7: 子ども・子育て | D7: 3.5 | E7: 3 | F7: =IF(E7*G7=1.5,ROUNDDOWN(E7*G7,0),ROUND(G7*E7,0)) -> 3 | G7: =VLOOKUP(入力シート!F7,$S$4:$T$14,2,) -> 1 | I7: 子ども・子育て | J7: =E7 -> 3 | K7: =F7 -> 3 | S7: １０％増 | T7: 1.1 | U7: ３班 | W7: =ROUND($E7*2,0)-$E7 -> 3 | X7: =ROUND($E7*1.5,0)-$E7 -> 2 | Y7: =ROUND($E7*1.3,0)-$E7 -> 1 | Z7: =ROUND($E7*1.1,0)-$E7 -> 0 | AA7: =ROUND($E7*1.05,0)-$E7 -> 0 | AB7: =ROUND($E7*1.05,0)-$E7 -> 0 | AC7: =ROUND($E7*0.9,0)-$E7 -> 0 | AD7: =ROUND($E7*0.7,0)-$E7 -> -1 | AE7: =ROUND($E7*0.5,0)-$E7 -> -1 | AF7: =ROUND($E7*0,0)-$E7 -> -3
C8: 生活保護ほか | D8: 5.2 | E8: =ROUND(D8,0) -> 5 | F8: =IF(OR(E8*G8=2.5, E8*G8=3.5, E8*G8=4.5),ROUNDDOWN(E8*G8,0),ROUND(G8*E8,0)) -> 5 | G8: =VLOOKUP(入力シート!G7,$S$4:$T$14,2,) -> 1 | I8: 生活保護ほか | J8: =E8 -> 5 | K8: =F8 -> 5 | S8: ５％増 | T8: 1.05 | U8: ４班 | W8: =ROUND($E8*2,0)-$E8 -> 5 | X8: =ROUND($E8*1.5,0)-$E8 -> 3 | Y8: =ROUND($E8*1.3,0)-$E8 -> 2 | Z8: =ROUND($E8*1.1,0)-$E8 -> 1 | AA8: =ROUND($E8*1.05,0)-$E8 -> 0 | AB8: =ROUND($E8*1.05,0)-$E8 -> 0 | AC8: =ROUND($E8*0.9,0)-$E8 -> 0 | AD8: =ROUND($E8*0.7,0)-$E8 -> -1 | AE8: =ROUND($E8*0.5,0)-$E8 -> -2 | AF8: =ROUND($E8*0,0)-$E8 -> -5
C9: 地方への交付金 | D9: 20.9 | E9: =ROUND(D9,0) -> 21 | F9: =IF(E9*G9=10.5,ROUNDDOWN(E9*G9,0),ROUND(G9*E9,0)) -> 21 | G9: =VLOOKUP(入力シート!H7,$S$4:$T$14,2,) -> 1 | S9: 現状維持 | T9: 1 | U9: ５班 | W9: =ROUND($E9*2,0)-$E9 -> 21 | X9: =ROUND($E9*1.5,0)-$E9 -> 11 | Y9: =ROUND($E9*1.3,0)-$E9 -> 6 | Z9: =ROUND($E9*1.1,0)-$E9 -> 2 | AA9: =ROUND($E9*1.05,0)-$E9 -> 1 | AB9: =ROUND($E9*1.05,0)-$E9 -> 1 | AC9: =ROUND($E9*0.9,0)-$E9 -> -2 | AD9: =ROUND($E9*0.7,0)-$E9 -> -6 | AE9: =ROUND($E9*0.5,0)-$E9 -> -10 | AF9: =ROUND($E9*0,0)-$E9 -> -21
C10: 防衛 | D10: 9 | E10: =ROUND(D10,0) -> 9 | F10: =IF(E10*G10=4.5,ROUNDDOWN(E10*G10,0),ROUND(G10*E10,0)) -> 9 | G10: =VLOOKUP(入力シート!I7,$S$4:$T$14,2,) -> 1 | J10: 参考 | S10: ５％減 | T10: 0.95 | U10: ６班 | W10: =ROUND($E10*2,0)-$E10 -> 9 | X10: =ROUND($E10*1.5,0)-$E10 -> 5 | Y10: =ROUND($E10*1.3,0)-$E10 -> 3 | Z10: =ROUND($E10*1.1,0)-$E10 -> 1 | AA10: =ROUND($E10*1.05,0)-$E10 -> 0 | AB10: =ROUND($E10*1.05,0)-$E10 -> 0 | AC10: =ROUND($E10*0.9,0)-$E10 -> -1 | AD10: =ROUND($E10*0.7,0)-$E10 -> -3 | AE10: =ROUND($E10*0.5,0)-$E10 -> -4 | AF10: =ROUND($E10*0,0)-$E10 -> -9
C11: 公共事業 | D11: 6.1 | E11: =ROUND(D11,0) -> 6 | F11: =ROUND(G11*E11,0) -> 6 | G11: =VLOOKUP(入力シート!J7,$S$4:$T$14,2,) -> 1 | J11: 令和8年度一般会計歳入歳出概算 | S11: １０％減 | T11: 0.9 | U11: ７班 | W11: =ROUND($E11*2,0)-$E11 -> 6 | X11: =ROUND($E11*1.5,0)-$E11 -> 3 | Y11: =ROUND($E11*1.3,0)-$E11 -> 2 | Z11: =ROUND($E11*1.1,0)-$E11 -> 1 | AA11: =ROUND($E11*1.05,0)-$E11 -> 0 | AB11: =ROUND($E11*1.05,0)-$E11 -> 0 | AC11: =ROUND($E11*0.9,0)-$E11 -> -1 | AD11: =ROUND($E11*0.7,0)-$E11 -> -2 | AE11: =ROUND($E11*0.5,0)-$E11 -> -3 | AF11: =ROUND($E11*0,0)-$E11 -> -6
C12: 教育 | D12: 4.6 | E12: =ROUND(D12,0) -> 5 | F12: =IF(OR(E12*G12=2.5, E12*G12=3.5, E12*G12=4.5),ROUNDDOWN(E12*G12,0),ROUND(G12*E12,0)) -> 5 | G12: =VLOOKUP(入力シート!K7,$S$4:$T$14,2,) -> 1 | J12: 令和8年度社会保障のポイントP2、文教・科技のポイントp2 | S12: ３０％減 | T12: 0.7 | U12: ８班 | W12: =ROUND($E12*2,0)-$E12 -> 5 | X12: =ROUND($E12*1.5,0)-$E12 -> 3 | Y12: =ROUND($E12*1.3,0)-$E12 -> 2 | Z12: =ROUND($E12*1.1,0)-$E12 -> 1 | AA12: =ROUND($E12*1.05,0)-$E12 -> 0 | AB12: =ROUND($E12*1.05,0)-$E12 -> 0 | AC12: =ROUND($E12*0.9,0)-$E12 -> 0 | AD12: =ROUND($E12*0.7,0)-$E12 -> -1 | AE12: =ROUND($E12*0.5,0)-$E12 -> -2 | AF12: =ROUND($E12*0,0)-$E12 -> -5
C13: その他 | D13: 11.4 | E13: =ROUND(D13,0) -> 11 | F13: =IF(E13*G13=5.5,ROUNDDOWN(E13*G13,0),ROUND(G13*E13,0)) -> 11 | G13: =VLOOKUP(入力シート!L7,$S$4:$T$14,2,) -> 1 | J13: ※合計を122兆円にするために、子ども・子育て（E7）を手動で3.0に調整（財政学習教材は4） | S13: ５０％減 | T13: 0.5 | U13: ９班 | W13: =ROUND($E13*2,0)-$E13 -> 11 | X13: =ROUND($E13*1.5,0)-$E13 -> 6 | Y13: =ROUND($E13*1.3,0)-$E13 -> 3 | Z13: =ROUND($E13*1.1,0)-$E13 -> 1 | AA13: =ROUND($E13*1.05,0)-$E13 -> 1 | AB13: =ROUND($E13*1.05,0)-$E13 -> 1 | AC13: =ROUND($E13*0.9,0)-$E13 -> -1 | AD13: =ROUND($E13*0.7,0)-$E13 -> -3 | AE13: =ROUND($E13*0.5,0)-$E13 -> -5 | AF13: =ROUND($E13*0,0)-$E13 -> -11
C14: 過去の借金の返済費 | D14: 18.2 | E14: =ROUND(D14,0) -> 18 | F14: 18 | S14: １００％減 | T14: 0 | U14: １０班
C15: 利払費 | D15: 13.1 | E15: =ROUND(D15,0) -> 13 | F15: 13 | U15: １１班
D16: =SUM(D4:D15) -> 122.4 | E16: =SUM(E3,E9:E15) -> 122 | F16: =SUM(F3,F9:F15) -> 122 | I16: =SUM(F3,F9:F13) -> 91 | U16: １２班
D17: 8年度 （既定値） | E17: 8年度 | F17: 予算案 | G17: 修正値 | U17: １３班
C18: 所得税 | D18: 25.3 | E18: =ROUND(D18,0) -> 25 | F18: =IF(OR(E18*G18=12.5, E18*G18=17.5, E18*G18=22.5),ROUNDDOWN(E18*G18,0),ROUND(G18*E18,0)) -> 25 | G18: =VLOOKUP(入力シート!B11,$S$4:$T$14,2,) -> 1 | U18: １４班 | W18: =ROUND($E18*2,0)-$E18 -> 25 | X18: =ROUND($E18*1.5,0)-$E18 -> 13 | Y18: =ROUND($E18*1.3,0)-$E18 -> 8 | Z18: =ROUND($E18*1.1,0)-$E18 -> 3 | AA18: =ROUND($E18*1.05,0)-$E18 -> 1 | AB18: =ROUND($E18*0.95,0)-$E18 -> -1 | AC18: =ROUND($E18*0.9,0)-$E18 -> -2 | AD18: =ROUND($E18*0.7,0)-$E18 -> -7 | AE18: =ROUND($E18*0.5,0)-$E18 -> -12 | AF18: =ROUND($E18*0,0)-$E18 -> -25
C19: 消費税 | D19: 26.7 | E19: =ROUND(D19,0) -> 27 | F19: =IF(E19*G19=13.5,ROUNDDOWN(E19*G19,0),ROUND(G19*E19,0)) -> 27 | G19: =VLOOKUP(入力シート!C11,$S$4:$T$14,2,) -> 1 | U19: １５班 | W19: =ROUND($E19*2,0)-$E19 -> 27 | X19: =ROUND($E19*1.5,0)-$E19 -> 14 | Y19: =ROUND($E19*1.3,0)-$E19 -> 8 | Z19: =ROUND($E19*1.1,0)-$E19 -> 3 | AA19: =ROUND($E19*1.05,0)-$E19 -> 1 | AB19: =ROUND($E19*0.95,0)-$E19 -> -1 | AC19: =ROUND($E19*0.9,0)-$E19 -> -3 | AD19: =ROUND($E19*0.7,0)-$E19 -> -8 | AE19: =ROUND($E19*0.5,0)-$E19 -> -13 | AF19: =ROUND($E19*0,0)-$E19 -> -27
C20: 法人税 | D20: 20.7 | E20: =ROUND(D20,0) -> 21 | F20: =IF(E20*G20=10.5,ROUNDDOWN(E20*G20,0),ROUND(G20*E20,0)) -> 21 | G20: =VLOOKUP(入力シート!D11,$S$4:$T$14,2,) -> 1 | U20: １６班 | W20: =ROUND($E20*2,0)-$E20 -> 21 | X20: =ROUND($E20*1.5,0)-$E20 -> 11 | Y20: =ROUND($E20*1.3,0)-$E20 -> 6 | Z20: =ROUND($E20*1.1,0)-$E20 -> 2 | AA20: =ROUND($E20*1.05,0)-$E20 -> 1 | AB20: =ROUND($E20*0.95,0)-$E20 -> -1 | AC20: =ROUND($E20*0.9,0)-$E20 -> -2 | AD20: =ROUND($E20*0.7,0)-$E20 -> -6 | AE20: =ROUND($E20*0.5,0)-$E20 -> -10 | AF20: =ROUND($E20*0,0)-$E20 -> -21
C21: その他の税 | D21: 11 | E21: =ROUND(D21,0) -> 11 | F21: =IF(E21*G21=5.5,ROUNDDOWN(E21*G21,0),ROUND(G21*E21,0)) -> 11 | G21: =VLOOKUP(入力シート!E11,$S$4:$T$14,2,) -> 1 | U21: １７班 | W21: =ROUND($E21*2,0)-$E21 -> 11 | X21: =ROUND($E21*1.5,0)-$E21 -> 6 | Y21: =ROUND($E21*1.3,0)-$E21 -> 3 | Z21: =ROUND($E21*1.1,0)-$E21 -> 1 | AA21: =ROUND($E21*1.05,0)-$E21 -> 1 | AB21: =ROUND($E21*0.95,0)-$E21 -> -1 | AC21: =ROUND($E21*0.9,0)-$E21 -> -1 | AD21: =ROUND($E21*0.7,0)-$E21 -> -3 | AE21: =ROUND($E21*0.5,0)-$E21 -> -5 | AF21: =ROUND($E21*0,0)-$E21 -> -11
C22: 税以外 | D22: 9 | E22: =ROUND(D22,0) -> 9 | F22: 9 | J22: 令和8年度予算のポイントP16 | U22: １８班
C23: 新たな借金 （国債） | D23: 29.6 | E23: =E16-E18-E19-E20-E21-E22 -> 29 | F23: =F16-F18-F19-F20-F21-F22 -> 29 | J23: ※合計を122兆円にするために、国債（E22）を29に調整（財政学習教材は30） | U23: １９班
D24: =SUM(D18:D23) -> 122.3 | E24: =SUM(E18:E23) -> 122 | F24: =SUM(F18:F23) -> 122 | I24: =SUM(F18:F22) -> 93 | U24: ２０班
C25: ※F列で黄塗りの項目について、E列*G列を計算した際の小数点第一位の値が.5となる場合、「増やす」と「減らす」で増減額が変わってしまうことから、数式を変更して増減額を一致させている。 | U25: ２１班
U26: ２２班
U27: ２３班
U28: ２４班
U29: ２５班
U30: ２６班
U31: ２７班
U32: ２８班
U33: ２９班
U34: ３０班
U35: ３１班
U36: ３２班
U37: ３３班
... U54: ５０班

Sheet （参考資料）
A5: ・ | B5: 財政関係基礎データ（令和８年４月） : 財務省HP
A7: ・ | B7: 国及び地方の長期債務残高.pdf
A9: ・ | B9: 国の長期債務残高について.pdf
A11: ・ | B11: 令和８年度の経済見通しと経済財政運営の基本的態度.pdf
B12: →P.5「主要経済指標」において令和8年度のGDP（見通し）について記載あり
A14: ・ | B14: 経済財政運営と改革の基本方針2026について.pdf
