Workbook

Sheet 入力シート
C1: 財務大臣になって予算を作ろう！
O2: 班
B4: 歳 出 | E4: 歳 入
B5: 社会保障 | C5: 現状維持 | E5: 所 得 税 | F5: 現状維持
B6: 地方への 交付金 | C6: 現状維持 | E6: 消 費 税 | F6: 現状維持
B7: 防衛 | C7: 現状維持 | E7: 法 人 税 | F7: 現状維持
B8: 公共事業 | C8: 現状維持 | E8: その他の税 | F8: 現状維持
B9: 教 育 | C9: 現状維持 | E9: 税以外 の収入 | F9: 現状維持 (9兆円)
B10: そ の 他 | C10: 現状維持
B11: 過去の借金の返済費 | C11: 現状維持 (18兆円)
B12: 利払費 | C12: 現状維持 (13兆円)
H15: 予算総額 | J15: 新たな借金 （国債）の額
G16: 8年度 | H16: 122 | J16: 29
G17: 予算案 | H17: =計算シート!E11 -> 122 | J17: =計算シート!E18 -> 29
G18: 増減 | H18: =H17-H16 -> 0 | J18: =J17-J16 -> 0

Sheet 計算シート
D1: （単位：兆）
D2: 8年度 | E2: 予算案 | F2: 修正値 | J2: 総額 | L2: 総額 | M2: 総額 | N2: 総額 | S2: １００％増 | T2: ５０％増 | U2: ３０％増 | V2: １０％増 | W2: ５％増 | X2: ５％減 | Y2: １０％減 | Z2: ３０％減 | AA2: ５０％減 | AB2: １００％減
C3: 社会保障 | D3: 39 | E3: =IF(D3*F3=19.5,ROUNDDOWN(D3*F3,0),ROUND(D3*F3,0)) -> 39 | F3: =VLOOKUP(入力シート!C5,$O$4:$P$14,2,) -> 1 | I3: ８年度 | J3: =D11 -> 122.2 | K3: 修正後 | L3: =E11 -> 122 | M3: =D19 -> 122.2 | N3: =E19 -> 122 | S3: =ROUND($D3*2,0)-$D3 -> 39 | T3: =ROUND($D3*1.5,0)-$D3 -> 20 | U3: =ROUND($D3*1.3,0)-$D3 -> 12 | V3: =ROUND($D3*1.1,0)-$D3 -> 4 | W3: =ROUND($D3*1.05,0)-$D3 -> 2 | X3: =ROUND($D3*0.95,0)-$D3 -> -2 | Y3: =ROUND($D3*0.9,0)-$D3 -> -4 | Z3: =ROUND($D3*0.7,0)-$D3 -> -12 | AA3: =ROUND($D3*0.5,0)-$D3 -> -19 | AB3: =ROUND($D3*0,0)-$D3 -> -39
C4: 地方への交付金 | D4: 21 | E4: =IF(D4*F4=10.5,ROUNDDOWN(D4*F4,0),ROUND(D4*F4,0)) -> 21 | F4: =VLOOKUP(入力シート!C6,$O$4:$P$14,2,) -> 1 | O4: １００％増 | P4: 2 | Q4: 班 | S4: =ROUND($D4*2,0)-$D4 -> 21 | T4: =ROUND($D4*1.5,0)-$D4 -> 11 | U4: =ROUND($D4*1.3,0)-$D4 -> 6 | V4: =ROUND($D4*1.1,0)-$D4 -> 2 | W4: =ROUND($D4*1.05,0)-$D4 -> 1 | X4: =ROUND($D4*0.95,0)-$D4 -> -1 | Y4: =ROUND($D4*0.9,0)-$D4 -> -2 | Z4: =ROUND($D4*0.7,0)-$D4 -> -6 | AA4: =ROUND($D4*0.5,0)-$D4 -> -10 | AB4: =ROUND($D4*0,0)-$D4 -> -21
C5: 防衛 | D5: 9 | E5: =IF(D5*F5=4.5,ROUNDDOWN(D5*F5,0),ROUND(D5*F5,0)) -> 9 | F5: =VLOOKUP(入力シート!C7,$O$4:$P$14,2,) -> 1 | O5: ５０％増 | P5: 1.5 | Q5: １班 | S5: =ROUND($D5*2,0)-$D5 -> 9 | T5: =ROUND($D5*1.5,0)-$D5 -> 5 | U5: =ROUND($D5*1.3,0)-$D5 -> 3 | V5: =ROUND($D5*1.1,0)-$D5 -> 1 | W5: =ROUND($D5*1.05,0)-$D5 -> 0 | X5: =ROUND($D5*0.95,0)-$D5 -> 0 | Y5: =ROUND($D5*0.9,0)-$D5 -> -1 | Z5: =ROUND($D5*0.7,0)-$D5 -> -3 | AA5: =ROUND($D5*0.5,0)-$D5 -> -4 | AB5: =ROUND($D5*0,0)-$D5 -> -9
C6: 公共事業 | D6: 6 | E6: =ROUND(F6*D6,0) -> 6 | F6: =VLOOKUP(入力シート!C8,$O$4:$P$14,2,) -> 1 | O6: ３０％増 | P6: 1.3 | Q6: ２班 | S6: =ROUND($D6*2,0)-$D6 -> 6 | T6: =ROUND($D6*1.5,0)-$D6 -> 3 | U6: =ROUND($D6*1.3,0)-$D6 -> 2 | V6: =ROUND($D6*1.1,0)-$D6 -> 1 | W6: =ROUND($D6*1.05,0)-$D6 -> 0 | X6: =ROUND($D6*0.95,0)-$D6 -> 0 | Y6: =ROUND($D6*0.9,0)-$D6 -> -1 | Z6: =ROUND($D6*0.7,0)-$D6 -> -2 | AA6: =ROUND($D6*0.5,0)-$D6 -> -3 | AB6: =ROUND($D6*0,0)-$D6 -> -6
C7: 教育 | D7: 5 | E7: =IF(OR(D7*F7=2.5, D7*F7=3.5, D7*F7=4.5),ROUNDDOWN(D7*F7,0),ROUND(D7*F7,0)) -> 5 | F7: =VLOOKUP(入力シート!C9,$O$4:$P$14,2,) -> 1 | O7: １０％増 | P7: 1.1 | Q7: ３班 | S7: =ROUND($D7*2,0)-$D7 -> 5 | T7: =ROUND($D7*1.5,0)-$D7 -> 3 | U7: =ROUND($D7*1.3,0)-$D7 -> 2 | V7: =ROUND($D7*1.1,0)-$D7 -> 1 | W7: =ROUND($D7*1.05,0)-$D7 -> 0 | X7: =ROUND($D7*0.95,0)-$D7 -> 0 | Y7: =ROUND($D7*0.9,0)-$D7 -> 0 | Z7: =ROUND($D7*0.7,0)-$D7 -> -1 | AA7: =ROUND($D7*0.5,0)-$D7 -> -2 | AB7: =ROUND($D7*0,0)-$D7 -> -5
C8: その他 | D8: 11 | E8: =IF(D8*F8=5.5,ROUNDDOWN(D8*F8,0),ROUND(D8*F8,0)) -> 11 | F8: =VLOOKUP(入力シート!C10,$O$4:$P$14,2,) -> 1 | I8: =SUM(E3,E4:E8) -> 91 | O8: ５％増 | P8: 1.05 | Q8: ４班 | S8: =ROUND($D8*2,0)-$D8 -> 11 | T8: =ROUND($D8*1.5,0)-$D8 -> 6 | U8: =ROUND($D8*1.3,0)-$D8 -> 3 | V8: =ROUND($D8*1.1,0)-$D8 -> 1 | W8: =ROUND($D8*1.05,0)-$D8 -> 1 | X8: =ROUND($D8*0.95,0)-$D8 -> -1 | Y8: =ROUND($D8*0.9,0)-$D8 -> -1 | Z8: =ROUND($D8*0.7,0)-$D8 -> -3 | AA8: =ROUND($D8*0.5,0)-$D8 -> -5 | AB8: =ROUND($D8*0,0)-$D8 -> -11
C9: 過去の借金の返済費 | D9: 18.2 | E9: 18 | O9: 現状維持 | P9: 1 | Q9: ５班
C10: 利払費 | D10: 13 | E10: 13 | O10: ５％減 | P10: 0.95 | Q10: ６班
D11: =SUM(D3:D10) -> 122.2 | E11: =SUM(E3:E10) -> 122 | O11: １０％減 | P11: 0.9 | Q11: ７班
D12: 8年度 | E12: 予算案 | F12: 修正値 | O12: ３０％減 | P12: 0.7 | Q12: ８班
C13: 所得税 | D13: 25 | E13: =IF(OR(D13*F13=12.5, D13*F13=17.5, D13*F13=22.5),ROUNDDOWN(D13*F13,0),ROUND(D13*F13,0)) -> 25 | F13: =VLOOKUP(入力シート!F5,$O$4:$P$14,2,) -> 1 | O13: ５０％減 | P13: 0.5 | Q13: ９班 | S13: =ROUND($D13*2,0)-$D13 -> 25 | T13: =ROUND($D13*1.5,0)-$D13 -> 13 | U13: =ROUND($D13*1.3,0)-$D13 -> 8 | V13: =ROUND($D13*1.1,0)-$D13 -> 3 | W13: =ROUND($D13*1.05,0)-$D13 -> 1 | X13: =ROUND($D13*0.95,0)-$D13 -> -1 | Y13: =ROUND($D13*0.9,0)-$D13 -> -2 | Z13: =ROUND($D13*0.7,0)-$D13 -> -7 | AA13: =ROUND($D13*0.5,0)-$D13 -> -12 | AB13: =ROUND($D13*0,0)-$D13 -> -25
C14: 消費税 | D14: 27 | E14: =IF(D14*F14=13.5, ROUNDDOWN(D14*F14, 0), ROUND(D14*F14, 0)) -> 27 | F14: =VLOOKUP(入力シート!F6,$O$4:$P$14,2,) -> 1 | O14: １００％減 | P14: 0 | Q14: １０班 | S14: =ROUND($D14*2,0)-$D14 -> 27 | T14: =ROUND($D14*1.5,0)-$D14 -> 14 | U14: =ROUND($D14*1.3,0)-$D14 -> 8 | V14: =ROUND($D14*1.1,0)-$D14 -> 3 | W14: =ROUND($D14*1.05,0)-$D14 -> 1 | X14: =ROUND($D14*0.95,0)-$D14 -> -1 | Y14: =ROUND($D14*0.9,0)-$D14 -> -3 | Z14: =ROUND($D14*0.7,0)-$D14 -> -8 | AA14: =ROUND($D14*0.5,0)-$D14 -> -13 | AB14: =ROUND($D14*0,0)-$D14 -> -27
C15: 法人税 | D15: 21 | E15: =IF(D15*F15=10.5,ROUNDDOWN(D15*F15,0),ROUND(D15*F15,0)) -> 21 | F15: =VLOOKUP(入力シート!F7,$O$4:$P$14,2,) -> 1 | Q15: １１班 | S15: =ROUND($D15*2,0)-$D15 -> 21 | T15: =ROUND($D15*1.5,0)-$D15 -> 11 | U15: =ROUND($D15*1.3,0)-$D15 -> 6 | V15: =ROUND($D15*1.1,0)-$D15 -> 2 | W15: =ROUND($D15*1.05,0)-$D15 -> 1 | X15: =ROUND($D15*0.95,0)-$D15 -> -1 | Y15: =ROUND($D15*0.9,0)-$D15 -> -2 | Z15: =ROUND($D15*0.7,0)-$D15 -> -6 | AA15: =ROUND($D15*0.5,0)-$D15 -> -10 | AB15: =ROUND($D15*0,0)-$D15 -> -21
C16: その他の税 | D16: 11 | E16: =IF(D16*F16=5.5,ROUNDDOWN(D16*F16,0),ROUND(D16*F16,0)) -> 11 | F16: =VLOOKUP(入力シート!F8,$O$4:$P$14,2,) -> 1 | Q16: １２班 | S16: =ROUND($D16*2,0)-$D16 -> 11 | T16: =ROUND($D16*1.5,0)-$D16 -> 6 | U16: =ROUND($D16*1.3,0)-$D16 -> 3 | V16: =ROUND($D16*1.1,0)-$D16 -> 1 | W16: =ROUND($D16*1.05,0)-$D16 -> 1 | X16: =ROUND($D16*0.95,0)-$D16 -> -1 | Y16: =ROUND($D16*0.9,0)-$D16 -> -1 | Z16: =ROUND($D16*0.7,0)-$D16 -> -3 | AA16: =ROUND($D16*0.5,0)-$D16 -> -5 | AB16: =ROUND($D16*0,0)-$D16 -> -11
C17: 税以外 | D17: 9 | E17: 9 | I17: =SUM(E13:E17) -> 93 | Q17: １３班
C18: 新たな借金 （国債） | D18: =D11-D13-D14-D15-D16-D17 -> 29.2 | E18: =E11-E13-E14-E15-E16-E17 -> 29 | Q18: １４班
D19: =SUM(D13:D18) -> 122.2 | E19: =SUM(E13:E18) -> 122 | Q19: １５班
C20: ※E列で黄塗りの項目について、D列*F列を計算した際の小数点第一位の値が.5となる場合、「増やす」と「減らす」で増減額が変わってしまうことから、数式を変更して増減額を一致させている。 | Q20: １６班
Q21: １７班
Q22: １８班
Q23: １９班
Q24: ２０班
Q25: ２１班
Q26: ２２班
Q27: ２３班
Q28: ２４班
Q29: ２５班
Q30: ２６班
Q31: ２７班
Q32: ２８班
... Q54: ５０班
